BEGIN:VCALENDAR
VERSION:2.0
PRODID:-//wp-events-plugin.com//7.2.3.1//EN
TZID:Europe/Berlin
X-WR-TIMEZONE:Europe/Berlin
BEGIN:VEVENT
UID:18054@chaostreff-dortmund.de
DTSTART;TZID=Europe/Berlin:20240309T100000
DTEND;TZID=Europe/Berlin:20240309T133000
DTSTAMP:20240202T071418Z
URL:https://www.chaostreff-dortmund.de/events/repair-cafe-fuer-e-geraete-a
 m-9-3-2024-bei-der-edg-moebelboerse/
SUMMARY:Repair Café für E-Geräte bei der EDG Möbelbörse
DESCRIPTION:Schon letztes Jahr haben wir in Zusammenarbeit mit der EDG-Umwe
 ltbildung unser Repaircafé in den Räumen der EDG Möbelbörse in Hachene
 y stattfinden lassen. Zwischen 10 und 13:30 Uhr sind wir dort anzutreffen.
 \n\nAchtung: Es findet dafür kein Repaircafé im Februar statt.\n\nMehr I
 nformationen im Blog: Repair Café für E-Geräte am 9.3.2024 bei der EDG 
 Möbelbörse\n\n&nbsp\;\n\nEDG Möbelbörse\nZeche Crone 12\n44265 Dortmun
 d\n51°28'21.1"N 7°28'56.8"E\n\n09.03.2024\, 10.00 - 13.30 Uhr\n\nKeine A
 nmeldung erforderlich.
LOCATION:EDG Möbelbörse\, Zeche Crone 12\, Dortmund\, 44265\, Deutschland
X-APPLE-STRUCTURED-LOCATION;VALUE=URI;X-ADDRESS=Zeche Crone 12\, Dortmund\,
  44265\, Deutschland;X-APPLE-RADIUS=100;X-TITLE=EDG Möbelbörse:geo:0,0
END:VEVENT
BEGIN:VTIMEZONE
TZID:Europe/Berlin
X-LIC-LOCATION:Europe/Berlin
BEGIN:STANDARD
DTSTART:20231029T020000
TZOFFSETFROM:+0200
TZOFFSETTO:+0100
TZNAME:CET
END:STANDARD
END:VTIMEZONE
END:VCALENDAR