BEGIN:VCALENDAR
VERSION:2.0
PRODID:-//wp-events-plugin.com//7.2.3.1//EN
TZID:Europe/Berlin
X-WR-TIMEZONE:Europe/Berlin
BEGIN:VEVENT
UID:18056@chaostreff-dortmund.de
DTSTART;TZID=Europe/Berlin:20240316T100000
DTEND;TZID=Europe/Berlin:20240317T180000
DTSTAMP:20240305T183233Z
URL:https://www.chaostreff-dortmund.de/events/maker-faire-ruhr/
SUMMARY:Maker Faire Ruhr
DESCRIPTION:Am 16. und 17. März ist der Chaostreff Dortmund auf der Maker 
 Faire Ruhr in der DASA anzutreffen. Unseren Stand findet ihr im Obergescho
 ß im Ausstellungsbereich "Arbeit im Wandel".\n\nhttps://www.makerfaire-ru
 hr.com/
LOCATION:DASA Arbeitswelt Ausstellung\, Friedrich-Henkel-Weg 1-25\, Dortmun
 d\, 44149\, Deutschland
X-APPLE-STRUCTURED-LOCATION;VALUE=URI;X-ADDRESS=Friedrich-Henkel-Weg 1-25\,
  Dortmund\, 44149\, Deutschland;X-APPLE-RADIUS=100;X-TITLE=DASA Arbeitswel
 t Ausstellung:geo:0,0
END:VEVENT
BEGIN:VTIMEZONE
TZID:Europe/Berlin
X-LIC-LOCATION:Europe/Berlin
BEGIN:STANDARD
DTSTART:20231029T020000
TZOFFSETFROM:+0200
TZOFFSETTO:+0100
TZNAME:CET
END:STANDARD
END:VTIMEZONE
END:VCALENDAR